BEGIN:VCALENDAR
VERSION:2.0
PRODID:-//Fire Networks - ECPv6.15.20//NONSGML v1.0//EN
CALSCALE:GREGORIAN
METHOD:PUBLISH
X-ORIGINAL-URL:https://firenetworks.org
X-WR-CALDESC:Events for Fire Networks
REFRESH-INTERVAL;VALUE=DURATION:PT1H
X-Robots-Tag:noindex
X-PUBLISHED-TTL:PT1H
BEGIN:VTIMEZONE
TZID:America/New_York
BEGIN:DAYLIGHT
TZOFFSETFROM:-0500
TZOFFSETTO:-0400
TZNAME:EDT
DTSTART:20230312T070000
END:DAYLIGHT
BEGIN:STANDARD
TZOFFSETFROM:-0400
TZOFFSETTO:-0500
TZNAME:EST
DTSTART:20231105T060000
END:STANDARD
BEGIN:DAYLIGHT
TZOFFSETFROM:-0500
TZOFFSETTO:-0400
TZNAME:EDT
DTSTART:20240310T070000
END:DAYLIGHT
BEGIN:STANDARD
TZOFFSETFROM:-0400
TZOFFSETTO:-0500
TZNAME:EST
DTSTART:20241103T060000
END:STANDARD
BEGIN:DAYLIGHT
TZOFFSETFROM:-0500
TZOFFSETTO:-0400
TZNAME:EDT
DTSTART:20250309T070000
END:DAYLIGHT
BEGIN:STANDARD
TZOFFSETFROM:-0400
TZOFFSETTO:-0500
TZNAME:EST
DTSTART:20251102T060000
END:STANDARD
END:VTIMEZONE
BEGIN:VEVENT
DTSTART;VALUE=DATE:20240306
DTEND;VALUE=DATE:20240308
DTSTAMP:20260424T041514
CREATED:20240222T134802Z
LAST-MODIFIED:20240222T134802Z
UID:10000260-1709683200-1709855999@firenetworks.org
SUMMARY:Rocky Mountain National Park's Biennial Research Conference
DESCRIPTION:When: March 6-7\, 2024\, 8:00am – ~5:30pm\nWhere: The Ridgeline Hotel\, 101 S Saint Vrain Ave\, Estes Park\, CO (Click here for venue information)\nTheme: Challenges and Collaborations for Changing Landscapes\nSponsor: Rocky Mountain Conservancy\nAdditional Details: This conference is free and open to the public.\nReasonable Accommodations: Please direct all questions and requests for reasonable accommodations to Paige Lambert (Paige_Lambert@nps.gov) \nAdditional information and registration: https://www.nps.gov/rlc/continentaldivide/upcoming-conference-details.htm
URL:https://firenetworks.org/event/rocky-mountain-national-parks-biennial-research-conference/
LOCATION:Estes Park\, CO
CATEGORIES:Trainings Conferences Workshops Etc
END:VEVENT
END:VCALENDAR