BEGIN:VCALENDAR
VERSION:2.0
PRODID:-//Fire Networks - ECPv6.15.20//NONSGML v1.0//EN
CALSCALE:GREGORIAN
METHOD:PUBLISH
X-ORIGINAL-URL:https://firenetworks.org
X-WR-CALDESC:Events for Fire Networks
REFRESH-INTERVAL;VALUE=DURATION:PT1H
X-Robots-Tag:noindex
X-PUBLISHED-TTL:PT1H
BEGIN:VTIMEZONE
TZID:America/New_York
BEGIN:DAYLIGHT
TZOFFSETFROM:-0500
TZOFFSETTO:-0400
TZNAME:EDT
DTSTART:20220313T070000
END:DAYLIGHT
BEGIN:STANDARD
TZOFFSETFROM:-0400
TZOFFSETTO:-0500
TZNAME:EST
DTSTART:20221106T060000
END:STANDARD
BEGIN:DAYLIGHT
TZOFFSETFROM:-0500
TZOFFSETTO:-0400
TZNAME:EDT
DTSTART:20230312T070000
END:DAYLIGHT
BEGIN:STANDARD
TZOFFSETFROM:-0400
TZOFFSETTO:-0500
TZNAME:EST
DTSTART:20231105T060000
END:STANDARD
BEGIN:DAYLIGHT
TZOFFSETFROM:-0500
TZOFFSETTO:-0400
TZNAME:EDT
DTSTART:20240310T070000
END:DAYLIGHT
BEGIN:STANDARD
TZOFFSETFROM:-0400
TZOFFSETTO:-0500
TZNAME:EST
DTSTART:20241103T060000
END:STANDARD
BEGIN:DAYLIGHT
TZOFFSETFROM:-0500
TZOFFSETTO:-0400
TZNAME:EDT
DTSTART:20250309T070000
END:DAYLIGHT
BEGIN:STANDARD
TZOFFSETFROM:-0400
TZOFFSETTO:-0500
TZNAME:EST
DTSTART:20251102T060000
END:STANDARD
END:VTIMEZONE
BEGIN:VEVENT
DTSTART;TZID=America/New_York:20240229T130000
DTEND;TZID=America/New_York:20240229T140000
DTSTAMP:20260424T055728
CREATED:20240126T151328Z
LAST-MODIFIED:20240126T151328Z
UID:10000153-1709211600-1709215200@firenetworks.org
SUMMARY:February Five: Fire Lab Seminars for Managers
DESCRIPTION:In 2024\, there are five Thursdays in February. To celebrate this rare event\, the Missoula Fire Lab is hosting a series of five seminars that highlight new tools and research for managers. The “February Five” will occur during our regularly scheduled seminar series timeslot – Thursdays at 11am Mountain Time. Please join us on Teams. Select the titles below for connection information and to view recordings after the event. \nFastFuels and QUIC-Fire: 3D fuel and fire modeling systems supporting prescribed fire\nFeb 1\, 2024: Russell Parsons\, Research Ecologist \nThe Fire Weather Alert System\nFeb 8\, 2024: Jason Forthofer\, Research Mechanical Engineer; Natalie Wagenbrenner\, Research Meteorologist \nEstimating forest characteristics such as carbon and tree growth over space and time using TreeMap\, FIADB\, and FVS\nFeb 15\, 2024: Karin Riley\, Research Ecologist and John Shaw\, Forest Inventory Analysis \nBehave7 Fire Modeling System: A Long Time Coming\nFeb 22\, 2024: Faith Ann Heinsch\, Physical Scientist; LaWen Hollingsworth\, Fire Behavior Specialist; Greg Dillon\, Director\, Fire Modeling Institute \nWildfire risk and mitigation opportunities in the US sagebrush biome\nFeb 29\, 2024: Karen Short\, Research Ecologist
URL:https://firenetworks.org/event/february-five-fire-lab-seminars-for-managers/2024-02-29/
CATEGORIES:Webinars
END:VEVENT
BEGIN:VEVENT
DTSTART;TZID=America/New_York:20240222T130000
DTEND;TZID=America/New_York:20240222T140000
DTSTAMP:20260424T055728
CREATED:20240126T151328Z
LAST-MODIFIED:20240126T151328Z
UID:10000152-1708606800-1708610400@firenetworks.org
SUMMARY:February Five: Fire Lab Seminars for Managers
DESCRIPTION:In 2024\, there are five Thursdays in February. To celebrate this rare event\, the Missoula Fire Lab is hosting a series of five seminars that highlight new tools and research for managers. The “February Five” will occur during our regularly scheduled seminar series timeslot – Thursdays at 11am Mountain Time. Please join us on Teams. Select the titles below for connection information and to view recordings after the event. \nFastFuels and QUIC-Fire: 3D fuel and fire modeling systems supporting prescribed fire\nFeb 1\, 2024: Russell Parsons\, Research Ecologist \nThe Fire Weather Alert System\nFeb 8\, 2024: Jason Forthofer\, Research Mechanical Engineer; Natalie Wagenbrenner\, Research Meteorologist \nEstimating forest characteristics such as carbon and tree growth over space and time using TreeMap\, FIADB\, and FVS\nFeb 15\, 2024: Karin Riley\, Research Ecologist and John Shaw\, Forest Inventory Analysis \nBehave7 Fire Modeling System: A Long Time Coming\nFeb 22\, 2024: Faith Ann Heinsch\, Physical Scientist; LaWen Hollingsworth\, Fire Behavior Specialist; Greg Dillon\, Director\, Fire Modeling Institute \nWildfire risk and mitigation opportunities in the US sagebrush biome\nFeb 29\, 2024: Karen Short\, Research Ecologist
URL:https://firenetworks.org/event/february-five-fire-lab-seminars-for-managers/2024-02-22/
CATEGORIES:Webinars
END:VEVENT
BEGIN:VEVENT
DTSTART;TZID=America/New_York:20240215T130000
DTEND;TZID=America/New_York:20240215T140000
DTSTAMP:20260424T055728
CREATED:20240126T151328Z
LAST-MODIFIED:20240126T151328Z
UID:10000151-1708002000-1708005600@firenetworks.org
SUMMARY:February Five: Fire Lab Seminars for Managers
DESCRIPTION:In 2024\, there are five Thursdays in February. To celebrate this rare event\, the Missoula Fire Lab is hosting a series of five seminars that highlight new tools and research for managers. The “February Five” will occur during our regularly scheduled seminar series timeslot – Thursdays at 11am Mountain Time. Please join us on Teams. Select the titles below for connection information and to view recordings after the event. \nFastFuels and QUIC-Fire: 3D fuel and fire modeling systems supporting prescribed fire\nFeb 1\, 2024: Russell Parsons\, Research Ecologist \nThe Fire Weather Alert System\nFeb 8\, 2024: Jason Forthofer\, Research Mechanical Engineer; Natalie Wagenbrenner\, Research Meteorologist \nEstimating forest characteristics such as carbon and tree growth over space and time using TreeMap\, FIADB\, and FVS\nFeb 15\, 2024: Karin Riley\, Research Ecologist and John Shaw\, Forest Inventory Analysis \nBehave7 Fire Modeling System: A Long Time Coming\nFeb 22\, 2024: Faith Ann Heinsch\, Physical Scientist; LaWen Hollingsworth\, Fire Behavior Specialist; Greg Dillon\, Director\, Fire Modeling Institute \nWildfire risk and mitigation opportunities in the US sagebrush biome\nFeb 29\, 2024: Karen Short\, Research Ecologist
URL:https://firenetworks.org/event/february-five-fire-lab-seminars-for-managers/2024-02-15/
CATEGORIES:Webinars
END:VEVENT
BEGIN:VEVENT
DTSTART;TZID=America/New_York:20240208T130000
DTEND;TZID=America/New_York:20240208T140000
DTSTAMP:20260424T055728
CREATED:20240126T151328Z
LAST-MODIFIED:20240126T151328Z
UID:10000150-1707397200-1707400800@firenetworks.org
SUMMARY:February Five: Fire Lab Seminars for Managers
DESCRIPTION:In 2024\, there are five Thursdays in February. To celebrate this rare event\, the Missoula Fire Lab is hosting a series of five seminars that highlight new tools and research for managers. The “February Five” will occur during our regularly scheduled seminar series timeslot – Thursdays at 11am Mountain Time. Please join us on Teams. Select the titles below for connection information and to view recordings after the event. \nFastFuels and QUIC-Fire: 3D fuel and fire modeling systems supporting prescribed fire\nFeb 1\, 2024: Russell Parsons\, Research Ecologist \nThe Fire Weather Alert System\nFeb 8\, 2024: Jason Forthofer\, Research Mechanical Engineer; Natalie Wagenbrenner\, Research Meteorologist \nEstimating forest characteristics such as carbon and tree growth over space and time using TreeMap\, FIADB\, and FVS\nFeb 15\, 2024: Karin Riley\, Research Ecologist and John Shaw\, Forest Inventory Analysis \nBehave7 Fire Modeling System: A Long Time Coming\nFeb 22\, 2024: Faith Ann Heinsch\, Physical Scientist; LaWen Hollingsworth\, Fire Behavior Specialist; Greg Dillon\, Director\, Fire Modeling Institute \nWildfire risk and mitigation opportunities in the US sagebrush biome\nFeb 29\, 2024: Karen Short\, Research Ecologist
URL:https://firenetworks.org/event/february-five-fire-lab-seminars-for-managers/2024-02-08/
CATEGORIES:Webinars
END:VEVENT
BEGIN:VEVENT
DTSTART;TZID=America/New_York:20240201T130000
DTEND;TZID=America/New_York:20240201T140000
DTSTAMP:20260424T055728
CREATED:20240126T151328Z
LAST-MODIFIED:20240126T151328Z
UID:10000149-1706792400-1706796000@firenetworks.org
SUMMARY:February Five: Fire Lab Seminars for Managers
DESCRIPTION:In 2024\, there are five Thursdays in February. To celebrate this rare event\, the Missoula Fire Lab is hosting a series of five seminars that highlight new tools and research for managers. The “February Five” will occur during our regularly scheduled seminar series timeslot – Thursdays at 11am Mountain Time. Please join us on Teams. Select the titles below for connection information and to view recordings after the event. \nFastFuels and QUIC-Fire: 3D fuel and fire modeling systems supporting prescribed fire\nFeb 1\, 2024: Russell Parsons\, Research Ecologist \nThe Fire Weather Alert System\nFeb 8\, 2024: Jason Forthofer\, Research Mechanical Engineer; Natalie Wagenbrenner\, Research Meteorologist \nEstimating forest characteristics such as carbon and tree growth over space and time using TreeMap\, FIADB\, and FVS\nFeb 15\, 2024: Karin Riley\, Research Ecologist and John Shaw\, Forest Inventory Analysis \nBehave7 Fire Modeling System: A Long Time Coming\nFeb 22\, 2024: Faith Ann Heinsch\, Physical Scientist; LaWen Hollingsworth\, Fire Behavior Specialist; Greg Dillon\, Director\, Fire Modeling Institute \nWildfire risk and mitigation opportunities in the US sagebrush biome\nFeb 29\, 2024: Karen Short\, Research Ecologist
URL:https://firenetworks.org/event/february-five-fire-lab-seminars-for-managers/2024-02-01/
CATEGORIES:Webinars
END:VEVENT
BEGIN:VEVENT
DTSTART;TZID=America/New_York:20231102T130000
DTEND;TZID=America/New_York:20231102T140000
DTSTAMP:20260424T055728
CREATED:20231101T174310Z
LAST-MODIFIED:20231101T174310Z
UID:10000049-1698930000-1698933600@firenetworks.org
SUMMARY:The Fire Lab Seminar Series: Quantifying the physical and chemical drivers of seasonal variability in live fuel moisture content
DESCRIPTION:In this seminar\, we will discuss the development of a mechanistic live fuel moisture model that accounts for changes in plant water status and biomass and demonstrate its performance using field-collected conifer and shrub data. \nJoin Microsoft Teams Meeting\n+1 202-650-0123   U.S.\, Washington DC (Toll) \nMeeting ID: 231 730 205 36\nPasscode: X76k6L
URL:https://firenetworks.org/event/the-fire-lab-seminar-series-quantifying-the-physical-and-chemical-drivers-of-seasonal-variability-in-live-fuel-moisture-content/
CATEGORIES:Webinars
END:VEVENT
END:VCALENDAR