BEGIN:VCALENDAR
VERSION:2.0
PRODID:-//Fire Networks - ECPv6.15.20//NONSGML v1.0//EN
CALSCALE:GREGORIAN
METHOD:PUBLISH
X-WR-CALNAME:Fire Networks
X-ORIGINAL-URL:https://firenetworks.org
X-WR-CALDESC:Events for Fire Networks
REFRESH-INTERVAL;VALUE=DURATION:PT1H
X-Robots-Tag:noindex
X-PUBLISHED-TTL:PT1H
BEGIN:VTIMEZONE
TZID:America/New_York
BEGIN:DAYLIGHT
TZOFFSETFROM:-0500
TZOFFSETTO:-0400
TZNAME:EDT
DTSTART:20250309T070000
END:DAYLIGHT
BEGIN:STANDARD
TZOFFSETFROM:-0400
TZOFFSETTO:-0500
TZNAME:EST
DTSTART:20251102T060000
END:STANDARD
BEGIN:DAYLIGHT
TZOFFSETFROM:-0500
TZOFFSETTO:-0400
TZNAME:EDT
DTSTART:20260308T070000
END:DAYLIGHT
BEGIN:STANDARD
TZOFFSETFROM:-0400
TZOFFSETTO:-0500
TZNAME:EST
DTSTART:20261101T060000
END:STANDARD
BEGIN:DAYLIGHT
TZOFFSETFROM:-0500
TZOFFSETTO:-0400
TZNAME:EDT
DTSTART:20270314T070000
END:DAYLIGHT
BEGIN:STANDARD
TZOFFSETFROM:-0400
TZOFFSETTO:-0500
TZNAME:EST
DTSTART:20271107T060000
END:STANDARD
END:VTIMEZONE
BEGIN:VEVENT
DTSTART;VALUE=DATE:20260413
DTEND;VALUE=DATE:20260425
DTSTAMP:20260419T083441
CREATED:20251217T144412Z
LAST-MODIFIED:20251217T144412Z
UID:10000482-1776038400-1777075199@firenetworks.org
SUMMARY:WTREX Quijota
DESCRIPTION:WTREX_QuijotA_2026_FLYER \n¡Nos emociona anunciar nuestro próximo evento WTREX\, que tendrá lugar en España en abril del próximo año! El evento se celebrará del 13 al 24 de abril de 2026 en Toledo y Valdepeñas\, Castilla-La Mancha\, España.\n\nLas inscripciones están abiertas hasta el 18 de enero en este enlace. Tengan en cuenta que el evento se desarrollará en español y es imprescindible hablar español para poder participar.\n\n—\n\n\nWe are so excited to announce our next WTREX event\, which will take place in Spain in April of next year! The event will be held April 13-24\, 2026 in Toledo and Valdepeñas\, Castilla-La Mancha\, Spain.\n\nApplications are open now through January 18 at this link. Please note that the event will be hosted in Spanish\, and you must speak Spanish in order to apply.
URL:https://firenetworks.org/event/wtrex-quijota/
LOCATION:Toledo y Valdepeñas\, Castilla-La Mancha (España)
CATEGORIES:Prescribed Fire Training Exchanges (TREX) & Cooperative Burning
END:VEVENT
END:VCALENDAR